BEGIN:VCALENDAR
VERSION:2.0
PRODID:-//Devpost\, Inc.//Innolympics 2026: GDGoC PLM Hackathon//EN
CALSCALE:GREGORIAN
BEGIN:VTIMEZONE
TZID:Asia/Hong_Kong
BEGIN:STANDARD
DTSTART:19791021T023000
TZOFFSETFROM:+0900
TZOFFSETTO:+0800
TZNAME:HKT
END:STANDARD
END:VTIMEZONE
BEGIN:VEVENT
DTSTAMP:20260423T163231Z
UID:6405566c-3506-4ea5-8a8f-42ad26a1e8a5
DTSTART;TZID=Asia/Hong_Kong:20260419T120000
DTEND;TZID=Asia/Hong_Kong:20260426T110000
DESCRIPTION:https://innolympics-2026.devpost.com/
LOCATION:C5 Eulogio Rodriguez Jr. Ave\, Quezon City\, Metro Manila\, Philip
 pines
SUMMARY:Innolympics 2026: GDGoC PLM Hackathon
BEGIN:VALARM
ACTION:DISPLAY
TRIGGER:-P3D
SUMMARY:Get ready\, the hacking starts in 3 days.
END:VALARM
END:VEVENT
END:VCALENDAR
